BEGIN:VCALENDAR
VERSION:2.0
PRODID:-//UNAN56 - ECPv6.8.2.1//NONSGML v1.0//EN
CALSCALE:GREGORIAN
METHOD:PUBLISH
X-ORIGINAL-URL:https://unan56.bzh
X-WR-CALDESC:Évènements pour UNAN56
REFRESH-INTERVAL;VALUE=DURATION:PT1H
X-Robots-Tag:noindex
X-PUBLISHED-TTL:PT1H
BEGIN:VTIMEZONE
TZID:UTC
BEGIN:STANDARD
TZOFFSETFROM:+0000
TZOFFSETTO:+0000
TZNAME:UTC
DTSTART:20250101T000000
END:STANDARD
END:VTIMEZONE
BEGIN:VEVENT
DTSTART;TZID=UTC:20250719T100000
DTEND;TZID=UTC:20250720T180000
DTSTAMP:20260425T152401
CREATED:20250628T094904Z
LAST-MODIFIED:20250628T094906Z
UID:3419-1752919200-1753034400@unan56.bzh
SUMMARY:Les Grandes Régates de Port Navalo
DESCRIPTION:L’UNAN 56 sera présente sur un stand.
URL:https://unan56.bzh/event/les-grandes-regates-de-port-navalo-2/
END:VEVENT
END:VCALENDAR